Workbook
Name ABMTMAT: 'CF Values LookUp'!$F$5:$F$6
Name ABMTTYPE: 'CF Values LookUp'!$E$5:$E$6
Name Absorbal_Only: 'CF Values LookUp'!$JH$5
Name Access_Platform: 'MAL-OTHERLOOKUPS'!$V$50
Name Accessibility_Ramp: 'MAL-OTHERLOOKUPS'!$BM$50
Name ACCPLTF: 'RAW Data - Asset Class + Catego'!$L$13:$L$15
Name ACCSZH: 'CF Values LookUp'!$I$5
Name ACCSZL: 'CF Values LookUp'!$J$5
Name ACCSZW: 'CF Values LookUp'!$K$5
Name ACDRMAT: 'CF Values LookUp'!$E$5:$E$9
Name ACTFTYPE: 'CF Values LookUp'!$G$5:$G$8
Name ACTIONCODE: 'MAL-OTHERLOOKUPS'!$A$4:$A$7
Name Air_Compressor: 'MAL-OTHERLOOKUPS'!$O$83
Name Air_Hose_Reel: 'MAL-OTHERLOOKUPS'!$P$83
Name Air_Monitoring: 'MAL-OTHERLOOKUPS'!$Q$83
Name Air_Monitoring_System: 'MAL-OTHERLOOKUPS'!$AK$50
Name AIRCOMP: 'CF Values LookUp'!$EF$5:$EF$7
Name AIRFLOW: 'CF Values LookUp'!$O$5
Name AMPERAGE: 'CF Values LookUp'!$BK$5
Name AMPRAT: 'CF Values LookUp'!$FD$5
Name ARCMPRS: 'RAW Data - Asset Class + Catego'!$L$18:$L$26
Name ARCONC: 'RAW Data - Asset Class + Catego'!$L$24:$L$26
Name ARCONIE: 'RAW Data - Asset Class + Catego'!$L$29:$L$31
Name ARHU: 'RAW Data - Asset Class + Catego'!$L$34:$L$38
Name ARHUCTYP: 'CF Values LookUp'!$P$5:$P$8
Name ARHUETYP: 'CF Values LookUp'!$R$5:$R$8
Name ARHUHETY: 'CF Values LookUp'!$S$5:$S$8
Name ARHUHTYP: 'CF Values LookUp'!$Q$5:$Q$10
Name ARIECONT: 'CF Values LookUp'!$Z$5:$Z$8
Name ARIEITYP: 'CF Values LookUp'!$Y$5:$Y$8
Name ARIETYPE: 'CF Values LookUp'!$X$5:$X$8
Name ARNCITYP: 'CF Values LookUp'!$U$5:$U$8
Name ARNCTYPE: 'CF Values LookUp'!$T$5:$T$8
Name ARRSTYPE: 'CF Values LookUp'!$L$5:$L$8
Name ARSHTYPE: 'CF Values LookUp'!$V$5:$V$8
Name Asphalt: #REF!
Name AssetStatus: 'MAL-OTHERLOOKUPS'!$C$4:$C$6
Name Automatic_Transfer_Switch: 'MAL-OTHERLOOKUPS'!$R$83
Name Backflow_Prevention: 'MAL-OTHERLOOKUPS'!$S$83
Name BARBWIRE: 'CF Values LookUp'!$DR$5:$DR$6
Name BAS_boards__Modules___Sensors: 'MAL-OTHERLOOKUPS'!$T$83
Name Battery_Charger: 'MAL-OTHERLOOKUPS'!$U$83
Name Battery_Powered_Emergency_Lighting_and_Exit_Lighting: 'MAL-OTHERLOOKUPS'!$V$83
Name BEERBEAR: 'CF Values LookUp'!$AU$5:$AU$7
Name BEERMAT: 'CF Values LookUp'!$AV$5:$AV$7
Name BEERTYPE: 'CF Values LookUp'!$AT$5:$AT$6
Name BFFPPRIN: 'CF Values LookUp'!$AF$5:$AF$10
Name BFFPTYPE: 'CF Values LookUp'!$AE$5:$AE$6
Name BFP: 'RAW Data - Asset Class + Catego'!$L$41:$L$42
Name BFPICS: 'CF Values LookUp'!$AH$5
Name BFPOCS: 'CF Values LookUp'!$AI$5
Name BHP: 'CF Values LookUp'!$AR$5
Name Biohazardous: 'CF Values LookUp'!$JH$6
Name BLACTYPE: 'CF Values LookUp'!$JZ$5:$JZ$8
Name BLNKMAT: 'CF Values LookUp'!$AW$5:$AW$7
Name Boiler: 'MAL-OTHERLOOKUPS'!$W$83
Name BOILR: 'RAW Data - Asset Class + Catego'!$L$45:$L$49
Name Bollard: 'MAL-OTHERLOOKUPS'!$BJ$50
Name BOLRD: 'RAW Data - Asset Class + Catego'!$L$52:$L$54
Name BOLRESRC: 'CF Values LookUp'!$AQ$5:$AQ$10

Sheet INDEX
B4: Bus Facilities Asset Information and Data Dictionary
B5: MX-ALM-DIC-005
B7: Version | C7: 3
B8: Revision Date | C8: 46309
B9: This document accompanies the Metrolinx Asset Information Standard (MX-ALM-STD-001). Contact the Manager of Functional Applications, Asset Lifecycle Management for requests to change any of the information within this Data Dictionary.
B10: Index | C10: Description | D10: Status
B11: 1 | C11: Change Log
B12: 2 | C12: PROD Change Log
B13: 3 | C13: Org & Department Codes
B14: 4 | C14: Hierarchies (3 Tabs)
B15: 4 | C15: Functional Asset Hierarchy
B16: 4.1 | C16: Location Hierarchy
B17: 4.2 | C17: Functional Hierarchy Mnemonics
B18: 5 | C18: Asset Attributes (2 tabs)
B19: 5 | C19: Asset Class
B20: 5.1 | C20: List of Manufacturers
B21: 6 | C21: Asset Attributes - Custom Fields (1 tab)
B22: 6 | C22: Custom Fields - Overview
... B33: 9.3 | C33: MAL- Bus Facilities Entry

Sheet 1.0 Change Log
A1: Version | B1: Change by | C1: Date | D1: Description of Change | E1: Reviewed by | F1: INDEX | G1: Column1
A2: 0 | B2: Sohail Mohammed | C2: 45558 | D2: Initial published version | E2: Bhavik, Ynez, Sohail
A3: 1 | B3: Stenil Poovan Sabu | C3: 45566 | D3: Updated file name from MX-ALM-STD-008 to MX-ALM-DIC-005. | E3: Stenil, Taniya
A4: 2 | B4: Stenil Poovan Sabu | C4: 45603 | D4: Added Eco Structure Web Station to Asset Class and added custom fields. Corrected spellings of IVAC, GRNDLPS, EMRGDFBR in Asset Class, Functional Hierarchy, Hierarchy Mnemonics. Updated MAL-OTHERLOOKUPS sheet with the changes mentioned above. | E4: Bhavik, Ynez, Sohail | F4: 4.0, 4.2, 5.0, 6.0
A5: 2 | B5: Stenil Poovan Sabu | C5: 45631 | D5: Moved Chiller, Cooling Tower, Heat Exchanger asset classes to HVAC in FH table. Added Windshield Washer Fluid Tank - new asset class and cfv | E5: Bhavik, Natalie | F5: 4.0
A6: 3 | B6: Stenil Poovan Sabu | C6: 46309 | D6: Added new Custom Fields and values for asset classes Septic Tank, Waster Water Collection System, Domestic Water Distribution System, Subsurface Stormwater Management, Surface Stormwater Management. | E6: Su-Won Yang | F6: 6.0

Sheet 2.0-Prod Change Log
A1: Item# | B1: Tab Affected | C1: Description | D1: Severity of Change | E1: Date in UAT | F1: Follow up POC | G1: Target Date for completion | H1: Approved in Prod | I1: Additional Docs affected | K1: INDEX
A2: 1
A3: 2
A4: 3 | K4: DO NOT DELETE THIS HIDDEN TAB IT IS NEEDED TO TRACK CHANGES FROM THE SYSTEM TO THIS DOCUMENT
A5: 4
A6: 5
A7: 6
A8: 7
A9: 8
A10: 9
A11: 10
A12: 11
A13: 12
A14: 13
A15: 14
A16: 15
... A82: 81

Sheet 3.0 Org & Department Codes
A1: Organization and Department Code Standards | F1: INDEX
B11: DEPARMENT
B12: Organization | C12: Description | D12: Department | E12: Department Description
B13: BRT | C13: Bus and Rapid Transit | D13: BRT-BFA | E13: Bus Facilities
D14: BRT-BFA-ABR | E14: Aberfoyle
D15: BRT-BFA-BRM | E15: Brampton
D16: BRT-BFA-EG | E16: East Gwillimbury
D17: BRT-BFA-HAM | E17: Hamilton
D18: BRT-BFA-KIT | E18: Kitchener
D19: BRT-BFA-OSH | E19: Oshawa
D20: BRT-BFA-STR | E20: Steeprock
D21: BRT-BFA-STVL | E21: Streetsville

Sheet 4.0 Functional Hierarchy
A1: Functional Asset Hierarchy | G1: INDEX
D14: Facility | E14: System | F14: Sub System | G14: Sub System/Position | H14: Position/Asset | I14: Asset
B15: Level 1 | C15: Level 2 | D15: Level 3 | E15: Level 4 | F15: Level 5 | G15: Level 6 | H15: Level 7 | I15: Level 8
B16: BFRT | C16: BFA | D16: Aberfoyle | E16: Main Building | F16: Substructure | G16: Substructure | H16: Substructure
D17: Brampton
D18: East Gwillimbury | F18: Shell | G18: Door | H18: Door | I18: (blank)
D19: Hamilton
D20: Kitchener | G20: Exterior Wall | H20: Exterior Wall | I20: (blank)
D21: Oshawa
D22: Steeprock | G22: Flat Roof | H22: Flat Roof | I22: (blank)
D23: Streetsville
G24: Hand Rail | H24: Hand Rail | I24: (blank)
G26: Overhead Door | H26: Overhead Door | I26: (blank)
G28: Sloped Roof | H28: Sloped Roof | I28: (blank)
G30: Window System | H30: Window System | I30: (blank)
G32: Guard Rail | H32: Guard Rail | I32: (blank)
G34: Access Platform | H34: Access Platform | I34: (blank)
G36: Canopy | H36: Canopy | I36: (blank)
G38: Parapet Wall | H38: Parapet Wall | I38: (blank)
G40: Super Structure | H40: Super Structure | I40: (blank)
G42: Skylight | H42: Skylight | I42: (blank)
G44: Inspection Pit | H44: Inspection Pit | I44: (blank)
G46: Roof Drain | H46: Roof Drain | I46: (blank)
G48: Door Air Curtain | H48: Door Air Curtain | I48: (blank)
F50: Room Interior | G50: Door | H50: Door | I50: (blank)
G52: Hand Rail | H52: Hand Rail | I52: (blank)
G54: Overhead Door | H54: Overhead Door | I54: (blank)
G56: Room Interior | H56: Room Interior | I56: (blank)
G58: Stairway | H58: Stairway | I58: (blank)
G60: Window System | H60: Window System | I60: (blank)
G62: Guard Rail | H62: Guard Rail | I62: (blank)
G64: Fixed Garbage Bin | H64: Fixed Garbage Bin | I64: (blank)
G66: Fixed Furniture | H66: Fixed Furniture | I66: (blank)
F68: Services | G68: Fire System | H68: Fire Backflow Preventer | I68: Fire Backflow Preventer
H70: Fire Extinguisher | I70: Fire Extinguisher
H72: Fire Hose and Cabinet | I72: Fire Hose and Cabinet
H74: Fire Panels | I74: Fire Panels
H76: Fire Protection Devices | I76: Fire Protection Devices
H78: Fire Pump | I78: Fire Pump
H80: Fire Shutter | I80: Fire Shutter
...

Sheet Hirerachy - Tbl
A1: Level 1 | B1: Level 2 | C1: Code 3 | D1: Level 3 | E1: Code 4 | F1: Level 4 | G1: Code 5 | H1: Level 5 | I1: Code 6 | J1: Level 6 | K1: Code 7 | L1: Level 7 | M1: Code 8 | N1: Level 8 | O1: Level 6 and 7 Match
E2: MBLG | F2: Main Building | G2: SBST | H2: Substructure | I2: SBST | J2: Substructure | K2: SBST | L2: Substructure | O2: =IF(I2=K2, "Yes", "No") -> Yes
E3: MBLG | F3: Main Building | G3: SHELL | H3: Shell | I3: FLTROOF | J3: Flat Roof | K3: FLTROOF | L3: Flat Roof | O3: =IF(I3=K3, "Yes", "No") -> Yes
E4: MBLG | F4: Main Building | G4: SHELL | H4: Shell | I4: SLPDRF | J4: Sloped Roof | K4: SLPDRF | L4: Sloped Roof | O4: =IF(I4=K4, "Yes", "No") -> Yes
E5: MBLG | F5: Main Building | G5: SHELL | H5: Shell | I5: EXTRWLL | J5: Exterior Wall | K5: EXTRWLL | L5: Exterior Wall | O5: =IF(I5=K5, "Yes", "No") -> Yes
E6: MBLG | F6: Main Building | G6: SHELL | H6: Shell | I6: WINDSYS | J6: Window System | K6: WINDSYS | L6: Window System | O6: =IF(I6=K6, "Yes", "No") -> Yes
E7: MBLG | F7: Main Building | G7: SHELL | H7: Shell | I7: PRPTWLL | J7: Parapet Wall | K7: PRPTWLL | L7: Parapet Wall | O7: =IF(I7=K7, "Yes", "No") -> Yes
E8: MBLG | F8: Main Building | G8: SHELL | H8: Shell | I8: DR | J8: Door | K8: DR | L8: Door | O8: =IF(I8=K8, "Yes", "No") -> Yes
E9: MBLG | F9: Main Building | G9: SHELL | H9: Shell | I9: ACCPLTF | J9: Access Platform | K9: ACCPLTF | L9: Access Platform | O9: =IF(I9=K9, "Yes", "No") -> Yes
E10: MBLG | F10: Main Building | G10: SHELL | H10: Shell | I10: DRARCRTN | J10: Door Air Curtain | K10: DRARCRTN | L10: Door Air Curtain | O10: =IF(I10=K10, "Yes", "No") -> Yes
E11: MBLG | F11: Main Building | G11: SHELL | H11: Shell | I11: SPSTRUCT | J11: Super Structure | K11: SPSTRUCT | L11: Super Structure | O11: =IF(I11=K11, "Yes", "No") -> Yes
E12: MBLG | F12: Main Building | G12: SHELL | H12: Shell | I12: OHDDR | J12: Overhead Door | K12: OHDDR | L12: Overhead Door | O12: =IF(I12=K12, "Yes", "No") -> Yes
E13: MBLG | F13: Main Building | G13: SHELL | H13: Shell | I13: CNPY | J13: Canopy | K13: CNPY | L13: Canopy | O13: =IF(I13=K13, "Yes", "No") -> Yes
... E27: MBLG | F27: Main Building | G27: RMINT | H27: Room Interior | I27: RMINT | J27: Room Interior | K27: RMINT | L27: Room Interior | O27: =IF(I27=K27, "Yes", "No") -> Yes
E28: MBLG | F28: Main Building | G28: SRV | H28: Services | I28: HAS | J28: Health and Safety | K28: FRSTADKT | L28: First Aid Kit | M28: FRSTADKT | N28: First Aid Kit | O28: =IF(I28=K28, "Yes", "No") -> No
E29: MBLG | F29: Main Building | G29: SRV | H29: Services | I29: HAS | J29: Health and Safety | K29: FLLARSYS | L29: Fall Arrest System | M29: FLLARSYS | N29: Fall Arrest System | O29: =IF(I29=K29, "Yes", "No") -> No
E30: MBLG | F30: Main Building | G30: SRV | H30: Services | I30: HAS | J30: Health and Safety | K30: SPLKTSTN | L30: Spill Kits Station | M30: SPLKTSTN | N30: Spill Kits Station | O30: =IF(I30=K30, "Yes", "No") -> No
E31: MBLG | F31: Main Building | G31: SRV | H31: Services | I31: HAS | J31: Health and Safety | K31: EMREAS | L31: Emergency Eyewash and Shower | M31: EMREAS | N31: Emergency Eyewash and Shower | O31: =IF(I31=K31, "Yes", "No") -> No
E32: MBLG | F32: Main Building | G32: SRV | H32: Services | I32: HAS | J32: Health and Safety | K32: EMRGDFBR | L32: Emergency Defibrillator | M32: EMRGDFBR | N32: Emergency Defibrillator | O32: =IF(I32=K32, "Yes", "No") -> No
E33: MBLG | F33: Main Building | G33: SRV | H33: Services | I33: ELEC | J33: Electrical | K33: TRNSFRSW | L33: Automatic Transfer Switch | M33: TRNSFRSW | N33: Automatic Transfer Switch | O33: =IF(I33=K33, "Yes", "No") -> No
E34: MBLG | F34: Main Building | G34: SRV | H34: Services | I34: ELEC | J34: Electrical | K34: SWTBRD | L34: Switchboard | M34: SWTBRD | N34: Switchboard | O34: =IF(I34=K34, "Yes", "No") -> No
E35: MBLG | F35: Main Building | G35: SRV | H35: Services | I35: ELEC | J35: Electrical | K35: LOWVLTTR | L35: Low Voltage Transformer | M35: LOWVLTTR | N35: Low Voltage Transformer | O35: =IF(I35=K35, "Yes", "No") -> No
E36: MBLG | F36: Main Building | G36: SRV | H36: Services | I36: ELEC | J36: Electrical | K36: MHVLTFR | L36: Medium/ High Voltage Transformer | M36: MHVLTFR | N36: Medium/ High Voltage Transformer | O36: =IF(I36=K36, "Yes", "No") -> No
E37: MBLG | F37: Main Building | G37: SRV | H37: Services | I37: ELEC | J37: Electrical | K37: LGHTCTRL | L37: Lighting Control System | M37: LGHTCTRL | N37: Lighting Control System | O37: =IF(I37=K37, "Yes", "No") -> No
E38: MBLG | F38: Main Building | G38: SRV | H38: Services | I38: ELEC | J38: Electrical | K38: CP | L38: Control Panel | M38: CP | N38: Control Panel | O38: =IF(I38=K38, "Yes", "No") -> No
E39: MBLG | F39: Main Building | G39: SRV | H39: Services | I39: ELEC | J39: Electrical | K39: UPS | L39: Uninterruptable Power Supply | M39: UPS | N39: Uninterruptable Power Supply | O39: =IF(I39=K39, "Yes", "No") -> No
... E83: MBLG | F83: Main Building | G83: SRV | H83: Services | I83: HVAC | J83: HVAC | K83: RTU | L83: Roof Top Units | M83: ARHU | N83: Air Handling Units | O83: =IF(I83=K83, "Yes", "No") -> No
E84: MBLG | F84: Main Building | G84: SRV | H84: Services | I84: HVAC | J84: HVAC | K84: HEATEXCH | L84: Heat Exchanger | M84: HEATEXCH | N84: Heat Exchanger
E85: MBLG | F85: Main Building | G85: SRV | H85: Services | I85: HVAC | J85: HVAC | K85: CHLRCOOL | L85: Cooling Tower | M85: CHLRCOOL | N85: Cooling Tower
E86: MBLG | F86: Main Building | G86: SRV | H86: Services | I86: HVAC | J86: HVAC | K86: CHLR | L86: Chiller | M86: CHLR | N86: Chiller
E87: MBLG | F87: Main Building | G87: SRV | H87: Services | I87: PLB | J87: Plumbing | K87: PMP | L87: Pump | M87: PMP | N87: Pump | O87: =IF(I87=K87, "Yes", "No") -> No
E88: MBLG | F88: Main Building | G88: SRV | H88: Services | I88: PLB | J88: Plumbing | K88: BFP | L88: Backflow Prevention | M88: BFP | N88: Backflow Prevention | O88: =IF(I88=K88, "Yes", "No") -> No
E89: MBLG | F89: Main Building | G89: SRV | H89: Services | I89: PLB | J89: Plumbing | K89: DOMWDS | L89: Domestic Water Distribution System | M89: DOMWDS | N89: Domestic Water Distribution System | O89: =IF(I89=K89, "Yes", "No") -> No
E90: MBLG | F90: Main Building | G90: SRV | H90: Services | I90: PLB | J90: Plumbing | K90: HTWTRHT | L90: Hot Water Heater | M90: HTWTRHT | N90: Hot Water Heater | O90: =IF(I90=K90, "Yes", "No") -> No
E91: MBLG | F91: Main Building | G91: SRV | H91: Services | I91: PLB | J91: Plumbing | K91: NONPTWTR | L91: Non - Potable Water System | M91: NONPTWTR | N91: Non - Potable Water System | O91: =IF(I91=K91, "Yes", "No") -> No
E92: MBLG | F92: Main Building | G92: SRV | H92: Services | I92: PLB | J92: Plumbing | K92: PLMBFXT | L92: Plumbing Fixture | M92: PLMBFXT | N92: Plumbing Fixture | O92: =IF(I92=K92, "Yes", "No") -> No
E93: MBLG | F93: Main Building | G93: SRV | H93: Services | I93: PLB | J93: Plumbing | K93: UTLMTR | L93: Utility Meters | M93: UTLMTR | N93: Utility Meters | O93: =IF(I93=K93, "Yes", "No") -> No
E94: MBLG | F94: Main Building | G94: SRV | H94: Services | I94: PLB | J94: Plumbing | K94: WTRSFNR | L94: Water Softener | M94: WTRSFNR | N94: Water Softener | O94: =IF(I94=K94, "Yes", "No") -> No
E95: MBLG | F95: Main Building | G95: SRV | H95: Services | I95: PLB | J95: Plumbing | K95: INTRCPT | L95: Interceptor | M95: INTRCPT | N95: Interceptor | O95: =IF(I95=K95, "Yes", "No") -> No
E96: MBLG | F96: Main Building | G96: SRV | H96: Services | I96: PLB | J96: Plumbing | K96: STAQOZ | L96: Stabilized Aqueous Ozone | M96: STAQOZ | N96: Stabilized Aqueous Ozone | O96: =IF(I96=K96, "Yes", "No") -> No
...

Sheet 4.1 Location Hierarchy
A1: Location Hierarchy | C1: INDEX
A14: Location ID | B14: Location Description | C14: Department
A15: L-ABRMMF | B15: Aberfoyle Maintenance Facility | C15: BFA-LOC
A16: L-ABRMMF-F1-BUSSTR | B16: Aberfoyle; Floor 1; Bus Storage | C16: BFA-LOC
A17: L-ABRMMF-F1-BUSSTR-06 | B17: Aberfoyle; Floor 1; Bus Storage; Fluid Room | C17: BFA-LOC
A18: L-ABRMMF-F1-BUSSTR-07 | B18: Aberfoyle; Floor 1; Bus Storage; Janitor Room | C18: BFA-LOC
A19: L-ABRMMF-F1-BUSSTR-L1 | B19: Aberfoyle; Floor 1; Bus Storage; Lane 1 | C19: BFA-LOC
A20: L-ABRMMF-F1-BUSSTR-L2 | B20: Aberfoyle; Floor 1; Bus Storage; Lane 2 | C20: BFA-LOC
A21: L-ABRMMF-F1-BUSSTR-L3 | B21: Aberfoyle; Floor 1; Bus Storage; Lane 3 | C21: BFA-LOC
A22: L-ABRMMF-F1-BUSSTR-L4 | B22: Aberfoyle; Floor 1; Bus Storage; Lane 4 | C22: BFA-LOC
A23: L-ABRMMF-F1-BUSSTR-L5 | B23: Aberfoyle; Floor 1; Bus Storage; Lane 5 | C23: BFA-LOC
A24: L-ABRMMF-F1-BUSWSH | B24: Aberfoyle; Floor 1; Bus Wash Area | C24: BFA-LOC
A25: L-ABRMMF-F1-BUSWSH-01 | B25: Aberfoyle; Floor 1; Bus Wash Area; Bus Wash Equipment Room | C25: BFA-LOC
... A615: L-STVLMF-RF | B615: Streetsville; Roof | C615: BFA-LOC

Sheet 4.2 Hierarchy Mnemonics
A1: Hierarchy Mnemonics | E1: INDEX
A10: Code | B10: Description | C10: Level Type | D10: Level No.
A11: BFRT | B11: Bus Facilities & Rapid Transit | C11: System | D11: Level 1
A12: BFA | B12: Bus Facilities | C12: System | D12: Level 2
A13: ABR | B13: Aberfoyle | C13: System | D13: Level 3
A14: BRM | B14: Brampton | C14: System | D14: Level 3
A15: EG | B15: East Gwillimbury | C15: System | D15: Level 3
A16: HAM | B16: Hamilton | C16: System | D16: Level 3
A17: KIT | B17: Kitchener | C17: System | D17: Level 3
A18: OSH | B18: Oshawa | C18: System | D18: Level 3
A19: STR | B19: Steeprock | C19: System | D19: Level 3
A20: STVL | B20: Streetsville | C20: System | D20: Level 3
A21: MBLG | B21: Main Building | C21: System | D21: Level 4
... A410: ESWS | B410: Eco Structure Web Station | C410: Asset | D410: Level 7

Sheet RAW Data - Asset Class + Catego
A3: Asset Class + Department | E3: Department + Asset Class + Category
A5: Asset Class | B5: Class Description | C5: Department | E5: Class Org | F5: Class Code | G5: Asset Class Description | H5: Category Code | I5: Category Description | L5: Row Labels
A6: ACCPLTF | B6: Access Platform | C6: BFA | E6: BRT | F6: ACCPLTF | G6: =INDEX(AssetClass15[Class Description], MATCH(F6, AssetClass15[Asset Class], 0)) -> Access Platform | H6: ACCPLTFGS | I6: Galvanized Steel | L6: SEP
A7: ACESRMP | B7: Accessibility Ramp | C7: BFA | E7: BRT | F7: ACCPLTF | G7: =INDEX(AssetClass15[Class Description], MATCH(F7, AssetClass15[Asset Class], 0)) -> Access Platform | H7: ACCPLTFPM | I7: Painted Metal | L7: Grease-Water Separator
A8: ARCMPRS | B8: Air Compressor | C8: BFA | E8: BRT | F8: ACCPLTF | G8: =INDEX(AssetClass15[Class Description], MATCH(F8, AssetClass15[Asset Class], 0)) -> Access Platform | H8: ACCPLTFRF | I8: Reinforced Fiberglass | L8: Grit-Water Separator
A9: ARCONIE | B9: Air Conditioning Indoor Evaporator | C9: BFA | E9: BRT | F9: ARCMPRS | G9: =INDEX(AssetClass15[Class Description], MATCH(F9, AssetClass15[Asset Class], 0)) -> Air Compressor | H9: ARCMPRSCF | I9: Centrifugal | L9: Oil-Water Separator
A10: ARHU | B10: Air Handling Unit | C10: BFA | E10: BRT | F10: ARCMPRS | G10: =INDEX(AssetClass15[Class Description], MATCH(F10, AssetClass15[Asset Class], 0)) -> Air Compressor | H10: ARCMPRSRP | I10: Reciprocating | L10: Solvent-Water Separator
A11: AHR | B11: Air Hose Reel | C11: BFA | E11: BRT | F11: ARCMPRS | G11: =INDEX(AssetClass15[Class Description], MATCH(F11, AssetClass15[Asset Class], 0)) -> Air Compressor | H11: ARCMPRSSL | I11: Scroll
A12: AIRM | B12: Air Monitoring | C12: BFA | E12: BRT | F12: ARCMPRS | G12: =INDEX(AssetClass15[Class Description], MATCH(F12, AssetClass15[Asset Class], 0)) -> Air Compressor | H12: ARCMPRSSW | I12: Screw | L12: ACCPLTF
A13: ARCONC | B13: Air-Conditioning – Condenser | C13: BFA | E13: BRT | F13: ARCONC | G13: =INDEX(AssetClass15[Class Description], MATCH(F13, AssetClass15[Asset Class], 0)) -> Air-Conditioning – Condenser | H13: ARCONCAC | I13: Air Cooled | L13: Galvanized Steel
A14: TRNSFRSW | B14: Automatic Transfer Switch | C14: BFA | E14: BRT | F14: ARCONC | G14: =INDEX(AssetClass15[Class Description], MATCH(F14, AssetClass15[Asset Class], 0)) -> Air-Conditioning – Condenser | H14: ARCONCGS | I14: Ground Source | L14: Painted Metal
A15: BFP | B15: Backflow Prevention | C15: BFA | E15: BRT | F15: ARCONC | G15: =INDEX(AssetClass15[Class Description], MATCH(F15, AssetClass15[Asset Class], 0)) -> Air-Conditioning – Condenser | H15: ARCONCWC | I15: Water Cooled | L15: Reinforced Fiberglass
A16: BASMS | B16: BAS boards, Modules & Sensors | C16: BFA | E16: BRT | F16: ARCONIE | G16: =INDEX(AssetClass15[Class Description], MATCH(F16, AssetClass15[Asset Class], 0)) -> Air Conditioning Indoor Evaporator | H16: ARCONIEPT | I16: Packaged Terminal (PTAC)
A17: BATCH | B17: Battery Charger | C17: BFA | E17: BRT | F17: ARCONIE | G17: =INDEX(AssetClass15[Class Description], MATCH(F17, AssetClass15[Asset Class], 0)) -> Air Conditioning Indoor Evaporator | H17: ARCONIESC | I17: Self-Contained | L17: ARCMPRS
A18: BPEMERGL | B18: Battery Powered Emergency Lighting and Exit Lighting | C18: BFA | E18: BRT | F18: ARCONIE | G18: =INDEX(AssetClass15[Class Description], MATCH(F18, AssetClass15[Asset Class], 0)) -> Air Conditioning Indoor Evaporator | H18: ARCONIEST | I18: Split | L18: Centrifugal
A19: BOILR | B19: Boiler | C19: BFA | E19: BRT | F19: ARHU | G19: =INDEX(AssetClass15[Class Description], MATCH(F19, AssetClass15[Asset Class], 0)) -> Air Handling Unit | H19: ARHUEH | I19: Electric Heating | L19: Reciprocating
A20: BOLRD | B20: Bollard | C20: BFA | E20: BRT | F20: ARHU | G20: =INDEX(AssetClass15[Class Description], MATCH(F20, AssetClass15[Asset Class], 0)) -> Air Handling Unit | H20: ARHUFOH | I20: Fuel Oil Heating | L20: Screw
A21: BFEX | B21: Bus Fume Exhaust | C21: BFA | E21: BRT | F21: ARHU | G21: =INDEX(AssetClass15[Class Description], MATCH(F21, AssetClass15[Asset Class], 0)) -> Air Handling Unit | H21: ARHUHWGH | I21: Hot Water/Glycol Heating | L21: Scroll
A22: BUSWSH | B22: Bus Wash System | C22: BFA | E22: BRT | F22: ARHU | G22: =INDEX(AssetClass15[Class Description], MATCH(F22, AssetClass15[Asset Class], 0)) -> Air Handling Unit | H22: ARHUNGH | I22: Natural Gas (NG) Heating
A23: CNPY | B23: Canopy | C23: BFA | E23: BRT | F23: ARHU | G23: =INDEX(AssetClass15[Class Description], MATCH(F23, AssetClass15[Asset Class], 0)) -> Air Handling Unit | H23: ARHUPGH | I23: Propane Gas (LPG) Heating | L23: ARCONC
A24: CPCTR | B24: Capacitor | C24: BFA | E24: BRT | F24: BFP | G24: =INDEX(AssetClass15[Class Description], MATCH(F24, AssetClass15[Asset Class], 0)) -> Backflow Prevention | H24: BFPFRSYS | I24: Fire System | L24: Air Cooled
A25: CHCKVLV | B25: Check Valve (>100mm) | C25: BFA | E25: BRT | F25: BFP | G25: =INDEX(AssetClass15[Class Description], MATCH(F25, AssetClass15[Asset Class], 0)) -> Backflow Prevention | H25: BFPWD | I25: Water Distribution | L25: Ground Source
A26: CHLR | B26: Chiller | C26: BFA | E26: BRT | F26: BOILR | G26: =INDEX(AssetClass15[Class Description], MATCH(F26, AssetClass15[Asset Class], 0)) -> Boiler | H26: BOILRGH | I26: Glycol Heating | L26: Water Cooled
A27: CIRCBENC | B27: Circuit Breaker Enclosure | C27: BFA | E27: BRT | F27: BOILR | G27: =INDEX(AssetClass15[Class Description], MATCH(F27, AssetClass15[Asset Class], 0)) -> Boiler | H27: BOILRHPSH | I27: High Pressure Steam Heating (>75psig)
A28: CMPADS | B28: Compressed Air Distribution System | C28: BFA | E28: BRT | F28: BOILR | G28: =INDEX(AssetClass15[Class Description], MATCH(F28, AssetClass15[Asset Class], 0)) -> Boiler | H28: BOILRHWH | I28: Hot Water Heating | L28: ARCONIE
A29: COGEN | B29: Cogn/Trigen | C29: BFA | E29: BRT | F29: BOILR | G29: =INDEX(AssetClass15[Class Description], MATCH(F29, AssetClass15[Asset Class], 0)) -> Boiler | H29: BOILRLPSH | I29: Low Pressure Steam Heating (<15psig) | L29: Packaged Terminal (PTAC)
A30: CP | B30: Control Panel | C30: BFA | E30: BRT | F30: BOILR | G30: =INDEX(AssetClass15[Class Description], MATCH(F30, AssetClass15[Asset Class], 0)) -> Boiler | H30: BOILRMPSH | I30: Medium Pressure Steam Heating (>16psig) | L30: Self-Contained
A31: CLFSYS | B31: Coolant Fluid System | C31: BFA | E31: BRT | F31: BOLRD | G31: =INDEX(AssetClass15[Class Description], MATCH(F31, AssetClass15[Asset Class], 0)) -> Bollard | H31: BOLRDCPS | I31: Composite | L31: Split
A32: COOLTANK | B32: Coolant Tank | C32: BFA | E32: BRT | F32: BOLRD | G32: =INDEX(AssetClass15[Class Description], MATCH(F32, AssetClass15[Asset Class], 0)) -> Bollard | H32: BOLRDCRT | I32: Concrete
A33: CHLRCOOL | B33: Cooling Tower | C33: BFA | E33: BRT | F33: BOLRD | G33: =INDEX(AssetClass15[Class Description], MATCH(F33, AssetClass15[Asset Class], 0)) -> Bollard | H33: BOLRDMTL | I33: Metal | L33: ARHU
A34: CRN | B34: Crane | C34: BFA | E34: BRT | F34: BPEMERGL | G34: =INDEX(AssetClass15[Class Description], MATCH(F34, AssetClass15[Asset Class], 0)) -> Battery Powered Emergency Lighting and Exit Lighting | H34: BPEMERGLEEBU | I34: Emergency Exit Battery Unit | L34: Electric Heating
A35: CRNREMC | B35: Crane Remote Control | C35: BFA | E35: BRT | F35: BPEMERGL | G35: =INDEX(AssetClass15[Class Description], MATCH(F35, AssetClass15[Asset Class], 0)) -> Battery Powered Emergency Lighting and Exit Lighting | H35: BPEMERGLESBU | I35: Emergency Sign Battery Unit | L35: Fuel Oil Heating
A36: CURBOX | B36: Curb Box | C36: BFA | E36: BRT | F36: CHLR | G36: =INDEX(AssetClass15[Class Description], MATCH(F36, AssetClass15[Asset Class], 0)) -> Chiller | H36: CHLRCFL | I36: Centrifugal | L36: Hot Water/Glycol Heating
A37: DEFDISP | B37: DEF Distribution System | C37: BFA | E37: BRT | F37: CHLR | G37: =INDEX(AssetClass15[Class Description], MATCH(F37, AssetClass15[Asset Class], 0)) -> Chiller | H37: CHLRRPT | I37: Reciprocating | L37: Natural Gas (NG) Heating
A38: DEHMDFR | B38: Dehumidifier | C38: BFA | E38: BRT | F38: CHLR | G38: =INDEX(AssetClass15[Class Description], MATCH(F38, AssetClass15[Asset Class], 0)) -> Chiller | H38: CHLRSCRL | I38: Scroll | L38: Propane Gas (LPG) Heating
A39: DIFSYS | B39: Diesel Fluid System | C39: BFA | E39: BRT | F39: CHLR | G39: =INDEX(AssetClass15[Class Description], MATCH(F39, AssetClass15[Asset Class], 0)) -> Chiller | H39: CHLRSW | I39: Screw
A40: DSLST | B40: Diesel Storage Tank | C40: BFA | E40: BRT | F40: CHLRCOOL | G40: =INDEX(AssetClass15[Class Description], MATCH(F40, AssetClass15[Asset Class], 0)) -> Cooling Tower | H40: CHLRCOOLMD | I40: Mechanical Draft | L40: BFP
A41: DSTTK | B41: Diesel Transfer Tank | C41: BFA | E41: BRT | F41: CHLRCOOL | G41: =INDEX(AssetClass15[Class Description], MATCH(F41, AssetClass15[Asset Class], 0)) -> Cooling Tower | H41: CHLRCOOLNAD | I41: Natural Air Draft | L41: Fire System
A42: DCSW | B42: Disconnect Switch | C42: BFA | E42: BRT | F42: CNPY | G42: =INDEX(AssetClass15[Class Description], MATCH(F42, AssetClass15[Asset Class], 0)) -> Canopy | H42: CNPYEC | I42: Exposed Ceiling | L42: Water Distribution
A43: FZDISC | B43: Fuse Disconnect | C43: BFA | E43: BRT | F43: CNPY | G43: =INDEX(AssetClass15[Class Description], MATCH(F43, AssetClass15[Asset Class], 0)) -> Canopy | H43: CNPYMLC | I43: Metal Linear Ceiling
...

Sheet 5.0 Asset Class
A1: Asset Classification Data Standards | D1: INDEX
A13: Asset Class | B13: Class Description | C13: Department | F13: Asset Class | G13: Category
A14: ACCPLTF | B14: Access Platform | C14: BFA | F14: Access Platform | G14: Galvanized Steel
A15: ACESRMP | B15: Accessibility Ramp | C15: BFA | G15: Painted Metal
A16: ARCMPRS | B16: Air Compressor | C16: BFA | G16: Reinforced Fiberglass
A17: ARCONIE | B17: Air Conditioning Indoor Evaporator | C17: BFA
A18: ARHU | B18: Air Handling Unit | C18: BFA | F18: Air Compressor | G18: Centrifugal
A19: AHR | B19: Air Hose Reel | C19: BFA | G19: Reciprocating
A20: AIRM | B20: Air Monitoring | C20: BFA | G20: Screw
A21: ARCONC | B21: Air-Conditioning – Condenser | C21: BFA | G21: Scroll
A22: TRNSFRSW | B22: Automatic Transfer Switch | C22: BFA
A23: BFP | B23: Backflow Prevention | C23: BFA | F23: Air Conditioning Indoor Evaporator | G23: Packaged Terminal (PTAC)
A24: BASMS | B24: BAS boards, Modules & Sensors | C24: BFA | G24: Self-Contained
A25: BATCH | B25: Battery Charger | C25: BFA | G25: Split
A26: BPEMERGL | B26: Battery Powered Emergency Lighting and Exit Lighting | C26: BFA
A27: BOILR | B27: Boiler | C27: BFA | F27: Air Handling Unit | G27: Electric Heating
A28: BOLRD | B28: Bollard | C28: BFA | G28: Fuel Oil Heating
A29: BFEX | B29: Bus Fume Exhaust | C29: BFA | G29: Hot Water/Glycol Heating
A30: BUSWSH | B30: Bus Wash System | C30: BFA | G30: Natural Gas (NG) Heating
A31: CNPY | B31: Canopy | C31: BFA | G31: Propane Gas (LPG) Heating
A32: CPCTR | B32: Capacitor | C32: BFA
A33: CHCKVLV | B33: Check Valve (>100mm) | C33: BFA | F33: Air-Conditioning – Condenser | G33: Air Cooled
A34: CHLR | B34: Chiller | C34: BFA | G34: Ground Source
A35: COGEN | B35: Cogn/Trigen | C35: BFA | G35: Water Cooled
A36: CMPADS | B36: Compressed Air Distribution System | C36: BFA
A37: CP | B37: Control Panel | C37: BFA | F37: Automatic Transfer Switch | G37: Auto
A38: CLFSYS | B38: Coolant Fluid System | C38: BFA | G38: Manual
A39: COOLTANK | B39: Coolant Tank | C39: BFA
A40: CHLRCOOL | B40: Cooling Tower | C40: BFA | F40: Backflow Prevention | G40: Fire System
A41: CRN | B41: Crane | C41: BFA | G41: Water Distribution
A42: CRNREMC | B42: Crane Remote Control | C42: BFA
A43: CURBOX | B43: Curb Box | C43: BFA | F43: Battery Powered Emergency Lighting and Exit Lighting | G43: Emergency Exit Battery Unit
A44: DEFDISP | B44: DEF Distribution System | C44: BFA | G44: Emergency Sign Battery Unit
A45: DEHMDFR | B45: Dehumidifier | C45: BFA
A46: DIFSYS | B46: Diesel Fluid System | C46: BFA | F46: Boiler | G46: Glycol Heating
A47: DSLST | B47: Diesel Storage Tank | C47: BFA | G47: High Pressure Steam Heating (>75psig)
A48: DSTTK | B48: Diesel Transfer Tank | C48: BFA | G48: Hot Water Heating
A49: DCSW | B49: Disconnect Switch | C49: BFA | G49: Low Pressure Steam Heating (<15psig)
A50: DMESTRCT | B50: Dome Structure | C50: BFA | G50: Medium Pressure Steam Heating (>16psig)
A51: DOMWDS | B51: Domestic Water Distribution System | C51: BFA
...

Sheet 5.1 List of Manufacturers
A1: List of Manufacturers | C1: INDEX
A8: Manufacturer | B8: Description
A9: AAON | B9: AAON
A10: AARONSCALECO | B10: Aaron Scale Co.
A11: AARPW | B11: AAR POWER BOSS INC.
A12: ABAAM | B12: ABA of America, Inc.
A13: ABB | B13: ABB Ltd.
A14: ABBVG | B14: BYGG, A.B. - OCH - TRANSPORT EKONOMI
A15: ABEXX | B15: Abex Corporation
A16: ABLBD | B16: ABLE BODY CO., INC.
A17: ABSOPULSE | B17: ABSOPULSE Electronics Ltd
A18: AC | B18: AC
A19: ACCCN | B19: Accuride Canada, Inc.
... A3203: ZURN | B3203: ZURN INDUSTRIES CANADA LTD.

Sheet 6.0 Custom Fields
A1: Custom Field (CF) Overview | D1: INDEX
A12: Class Code + Desc | B12: CF Code + Description | C12: Look Up Value
A13: ACCPLTF - Access Platform
B14: ACCSZH - Size Height (feet)
C15: Freeform Text
B16: ACCSZL - Size Length (feet)
C17: Freeform Text
B18: ACCSZW - Size Width (feet)
C19: Freeform Text
B20: ACTFTYPE - Access Platform Type
C21: Concrete and Steel
C22: Galvanized Steel
C23: Painted Metal
C24: Reinforced Fibreglass
B25: GURDRAIL - Guard Rail
C26: No
C27: Yes
A28: ACESRMP - Accessibility Ramp
B29: ACCSZL - Size Length (feet)
C30: Freeform Text
B31: ACCSZW - Size Width (feet)
C32: Freeform Text
B33: RLCCPLMT - RLMN Platform Material
C34: Asphalt
C35: Composite
C36: Concrete
C37: Steel
C38: Wood
B39: RLCCRPMT - RLMN Ramp Material
C40: Asphalt
C41: Composite
C42: Concrete
C43: Steel
C44: Wood
A45: AIRM - Accessibility Ramp
B46: GSYSTYPE - Gas Detection System Type
C47: Propane
C48: Ammonia
C49: CO/NOx
C50: CO2/CO
...

Sheet 7.0 Parts
A1: Parts tracked by Assets | K1: INDEX
M4: part
M5: store
M6: bin
M7: lot
M8: Serial Number
M9: Asset Class
A10: Asset ID | B10: Asset Class | C10: OEM | D10: OEM Part No. | E10: Part Description | F10: Part UOM | G10: Part Price | H10: Preferred Supplier | I10: Expected Obsolescence | J10: Recommended Critical Spare Qty

Sheet 8.0 Work Order Closing Codes
A1: Work Order Closing Codes | D1: INDEX
A11: Asset Class + Description | B11: Closing Code Type | C11: Closing Code + Description
A12: ACCPLTF - Access Platform
B13: Problem
C14: ABNTEMP - Abnormal Temperature
C15: CORROS - Corrosion
C16: ELECTRIP - Electrical Trip Out
C17: EXNOISE - Excessive Noise
C18: EXVIBRTN - Excessive Vibration
C19: JAMMEDEQ - Jammed Equipment
C20: LEAKING - Leaking
C21: LOWPERF - Low Performance
C22: NONOPER - Non-Operational
C23: PHYDMGE - Physical Damage
C24: UNSMELL - Unusual Smell
C25: UNSMOKE - Unusual Smoke
B26: Failure
C27: ACCLSDET - Access Platform Structure Deteriorated
B28: Cause
C29: ACCIDENT - Accident
C30: ACCWEAR - Accelerated Wear
C31: ACTGOD - Weather condition/Forces of nature or Act of God
C32: CONTAM - Contamination
C33: DEFASSET - Defective Asset
C34: EXLOAD - Excessive Load
C35: IMPRMNT - Improper Maintenance
C36: INSLUBR - Insufficient Lubrication
C37: LACKTRN - Lack of/ Inadequate Training
C38: MISSCMP - Loose/ Missing Component
C39: NRMWEAR - Normal Wear
C40: OTHER - Other (specify)
... C45: WORNCMPT - Defective/ Worn Component
B46: Action
C47: ADJUSTD - Adjusted
C48: DECOMM - Decommission
C49: DECONTME - Decontaminate
C50: DONOTHIN - Do Nothing
C51: LUBRCTE - Lubricate
C52: OTHER - Other (specify)
C53: RECALBRT - Recalibrate
...

Sheet Closing Codes Tbl
B2: Asset Class Closing Codes Table
B5: Asset Class | C5: Class Description | D5: Asset Class + Description | E5: Closing Code | F5: Closing Code Description | G5: Closing Code + Description | H5: Closing Code Type | I5: Class ORG
B6: ACCPLTF | C6: Access Platform | D6: =Table19[[#This Row],[Asset Class]] & " - " & Table19[[#This Row],[Class Description]] -> ACCPLTF - Access Platform | E6: ABNTEMP | F6: Abnormal Temperature | G6: =Table19[[#This Row],[Closing Code]] & " - " & Table19[[#This Row],[Closing Code Description]] -> ABNTEMP - Abnormal Temperature | H6: Problem | I6: BRT
B7: ACCPLTF | C7: Access Platform | D7: =Table19[[#This Row],[Asset Class]] & " - " & Table19[[#This Row],[Class Description]] -> ACCPLTF - Access Platform | E7: CORROS | F7: Corrosion | G7: =Table19[[#This Row],[Closing Code]] & " - " & Table19[[#This Row],[Closing Code Description]] -> CORROS - Corrosion | H7: Problem | I7: BRT
B8: ACCPLTF | C8: Access Platform | D8: =Table19[[#This Row],[Asset Class]] & " - " & Table19[[#This Row],[Class Description]] -> ACCPLTF - Access Platform | E8: ELECTRIP | F8: Electrical Trip Out | G8: =Table19[[#This Row],[Closing Code]] & " - " & Table19[[#This Row],[Closing Code Description]] -> ELECTRIP - Electrical Trip Out | H8: Problem | I8: BRT
B9: ACCPLTF | C9: Access Platform | D9: =Table19[[#This Row],[Asset Class]] & " - " & Table19[[#This Row],[Class Description]] -> ACCPLTF - Access Platform | E9: EXNOISE | F9: Excessive Noise | G9: =Table19[[#This Row],[Closing Code]] & " - " & Table19[[#This Row],[Closing Code Description]] -> EXNOISE - Excessive Noise | H9: Problem | I9: BRT
B10: ACCPLTF | C10: Access Platform | D10: =Table19[[#This Row],[Asset Class]] & " - " & Table19[[#This Row],[Class Description]] -> ACCPLTF - Access Platform | E10: EXVIBRTN | F10: Excessive Vibration | G10: =Table19[[#This Row],[Closing Code]] & " - " & Table19[[#This Row],[Closing Code Description]] -> EXVIBRTN - Excessive Vibration | H10: Problem | I10: BRT
B11: ACCPLTF | C11: Access Platform | D11: =Table19[[#This Row],[Asset Class]] & " - " & Table19[[#This Row],[Class Description]] -> ACCPLTF - Access Platform | E11: JAMMEDEQ | F11: Jammed Equipment | G11: =Table19[[#This Row],[Closing Code]] & " - " & Table19[[#This Row],[Closing Code Description]] -> JAMMEDEQ - Jammed Equipment | H11: Problem | I11: BRT
B12: ACCPLTF | C12: Access Platform | D12: =Table19[[#This Row],[Asset Class]] & " - " & Table19[[#This Row],[Class Description]] -> ACCPLTF - Access Platform | E12: LEAKING | F12: Leaking | G12: =Table19[[#This Row],[Closing Code]] & " - " & Table19[[#This Row],[Closing Code Description]] -> LEAKING - Leaking | H12: Problem | I12: BRT
B13: ACCPLTF | C13: Access Platform | D13: =Table19[[#This Row],[Asset Class]] & " - " & Table19[[#This Row],[Class Description]] -> ACCPLTF - Access Platform | E13: LOWPERF | F13: Low Performance | G13: =Table19[[#This Row],[Closing Code]] & " - " & Table19[[#This Row],[Closing Code Description]] -> LOWPERF - Low Performance | H13: Problem | I13: BRT
B14: ACCPLTF | C14: Access Platform | D14: =Table19[[#This Row],[Asset Class]] & " - " & Table19[[#This Row],[Class Description]] -> ACCPLTF - Access Platform | E14: NONOPER | F14: Non-Operational | G14: =Table19[[#This Row],[Closing Code]] & " - " & Table19[[#This Row],[Closing Code Description]] -> NONOPER - Non-Operational | H14: Problem | I14: BRT
B15: ACCPLTF | C15: Access Platform | D15: =Table19[[#This Row],[Asset Class]] & " - " & Table19[[#This Row],[Class Description]] -> ACCPLTF - Access Platform | E15: PHYDMGE | F15: Physical Damage | G15: =Table19[[#This Row],[Closing Code]] & " - " & Table19[[#This Row],[Closing Code Description]] -> PHYDMGE - Physical Damage | H15: Problem | I15: BRT
B16: ACCPLTF | C16: Access Platform | D16: =Table19[[#This Row],[Asset Class]] & " - " & Table19[[#This Row],[Class Description]] -> ACCPLTF - Access Platform | E16: UNSMELL | F16: Unusual Smell | G16: =Table19[[#This Row],[Closing Code]] & " - " & Table19[[#This Row],[Closing Code Description]] -> UNSMELL - Unusual Smell | H16: Problem | I16: BRT
B17: ACCPLTF | C17: Access Platform | D17: =Table19[[#This Row],[Asset Class]] & " - " & Table19[[#This Row],[Class Description]] -> ACCPLTF - Access Platform | E17: UNSMOKE | F17: Unusual Smoke | G17: =Table19[[#This Row],[Closing Code]] & " - " & Table19[[#This Row],[Closing Code Description]] -> UNSMOKE - Unusual Smoke | H17: Problem | I17: BRT
... B5408: WTRSFNR | C5408: Water Softener | D5408: =Table19[[#This Row],[Asset Class]] & " - " & Table19[[#This Row],[Class Description]] -> WTRSFNR - Water Softener | E5408: UPGRADES | F5408: Upgrade | G5408: =Table19[[#This Row],[Closing Code]] & " - " & Table19[[#This Row],[Closing Code Description]] -> UPGRADES - Upgrade | H5408: Action | I5408: BRT

Sheet 9.0 MAL - Instructions
A1: INDEX
B4: FACILITIES PROJECT
B5: Master Asset List (MAL)
B7: Contract No./ Project No.
B8: Project Name
B9: Project Representative
B10: Asset Class Representatives
B11: Substantial/Estimated Completion Date
B13: BACKGROUND: In line with the Asset Management Policy and Asset Information Handover Procedure, the MAL is a tool to capture the data of new assets, impacts to existing assets or assets that have been decommisioned/withdrawn as part of the project as well as related File Geodatabase information.
B14: INSTRUCTIONS
B15: CPG PROJECT DELIVERY TEAM:
B16: *provide the predefined Asset IDs if tagging/barcoding will be carried out
B17: *carry out data quality assurance checks
... B29: *follow Metrolinx and Business Unit process/standards

Sheet 9.1 MAL-Warranty
A1: INDEX | B1: WARRANTY DETAILS
A3: Fields-> | B3: Warranty Identifier | C3: Project Asset ID | D3: Warranty Start Date | E3: Warranty End Date | F3: Warranty Provider | H3: Parts Coverage | I3: Labour Coverage | J3: Warranty Document Name
A4: Instructions -> | B4: Unique ID for the Warranty | C4: Enter the Asset ID from the MAL tab that is covered under this warranty | D4: MMM-DD-YYYY | E4: MMM-DD-YYYY | F4: Provider Type | G4: Name of Corporation | H4: % | I4: % | J4: Should match to the filename identified in the Asset Document Control List (ADCL) or Master Information Delivery Plan (MIDP)

Sheet 9.2 Surplus Parts
A1: INDEX
B4: Asset | E4: Manufacturer | G4: Part Information | P4: Regulatory
A5: Fields → | B5: Project Asset ID | C5: Asset ID | D5: Asset Class | E5: OEM | F5: OEM Part No. | G5: Part Description | H5: Part UOM | I5: Handover Quantity | J5: Part Price | K5: Recommended Supplier | L5: Expected Obsolescence | M5: Recommended Critical Spare Qty | N5: Serial Number | O5: Lot Number | P5: Hazardous Material Code | Q5: VMRS code
A6: Instructions → | B6: Prepopulated list from MAL sheet | D6: Class the Part is associated with | E6: Original Equipment Manufacturer | F6: Part No. | G6: Describe the part (Ex - Switch Motor) | H6: Unit of Measure part is sold in (For ex - Each) | I6: Number of parts being handed over to maintenance from the project | J6: Price of the part | K6: Name of supplier that provides part | L6: YYYY. Year the part is expected to become obsolete / generaly unavailable for purchase | M6: Number of spares to be held in inventory at all times | N6: Serial number for each part handed over, if serialized | O6: Lot number for the part(s) being handed over | P6: HAZMAT Code | Q6: Vehicle Maintenance Reporting Standards code
C7: #N/A | D7: #N/A
C8: #N/A | D8: #N/A
C9: #N/A | D9: #N/A
C10: #N/A | D10: #N/A
C11: #N/A | D11: #N/A
C12: #N/A | D12: #N/A
C13: #N/A | D13: #N/A
C14: #N/A | D14: #N/A
C15: #N/A | D15: #N/A
C16: #N/A | D16: #N/A
C17: #N/A | D17: #N/A
C18: #N/A | D18: #N/A
... C506: #N/A | D506: #N/A

Sheet 9.3 MAL- Bus Facilities Entry
A1: INDEX | C1: DO NOT INSERT ROWS
A2: Section | B2: Record Management & Notes | C2: Record Management & Notes | G2: Asset Descriptive Data | H2: Asset Descriptive Data | O2: Asset Classification | P2: Asset Classification | T2: Custom Fields | V2: Custom Fields | BI2: Functional Information (System) | BJ2: Functional Hierarchy | BS2: Functional Hierarchy | BZ2: Location & GIS Information | CM2: Asset Identifiers | CN2: Asset Identifiers | CO2: Asset Identifiers | CX2: Maintenance | CY2: Maintenance | DB2: Meters | DC2: Meters | DE2: Asset Life Cycle | DF2: Asset Life Cycle | DK2: Asset Flags | DL2: Asset Flags
A3: Section Description | C3: Defines what will happen to this asset in MX EMMS system (Infor EAM) If a row has to be inserted ,copy an existing row and paste/insert to retain formulas | U3: CFV 1 | V3: Custom Field 1 | Y3: CFV 2 | Z3: Custom Field 2 | AC3: CFV 3 | AD3: Custom Field 3 | AG3: CFV 4 | AH3: Custom Field 4 | AK3: CFV 5 | AL3: Custom Field 5 | AO3: CFV 6 | AP3: Custom Field 6 | AS3: CFV 7 | AT3: Custom Field 7 | AW3: CFV 8 | AX3: Custom Field 8 | BA3: CFV 9 | BB3: Custom Field 9 | BE3: CFV 10 | BF3: Custom Field 10 | CJ3: GIS - HIDE | CN3: FOR NEW AND REPLACED ASSETS ONLY | CO3: FOR NEW AND REPLACED ASSETS ONLY | DL3: To Be Filled In By The Asset Owner in Metrolinx HIDDEN
A4: Instructions | C4: Select from the following: 'NEW' = Create New Asset Record 'UPDATE' = Update existing asset record 'DECOMMISSION'=Existing asset was decommissioned "REPLACE" - Replace with a New Asset | D4: Indicate if the asset is owned and/or maintained by Metrolinx | F4: Indicate additional information | J4: Entry Format example: Aug 01, 2023 Enter Jan 1, 1900 for Commission Dates that are not known | M4: Manufacturer/Contractor | P4: Generally associated with hierarchy NOTE* When Selecting an item from the drop-down List, scroll-up to the top to see the Lis | Q4: Classification codes based on the class selected. DO NOT EDIT | S4: Not Used by Stations. Leave blank. | U4: List of Values Code HIDE Do Not Update | V4: Auto populated | W4: NOTE* When Selecting an item from the drop-down List, scroll-up to the top to see the List | X4: If Field 1 Value is "Freeform" enter data here | Y4: List of Values Code HIDE Do Not Update | Z4: Auto populated | AA4: NOTE* When Selecting an item from the drop-down List, scroll-up to the top to see the List | AB4: If Field 2 Value is "Freeform" enter data here | AC4: List of Values Code HIDE Do Not Update | AD4: Auto populated | AE4: NOTE* When Selecting an item from the drop-down List, scroll-up to the top to see the List | AF4: If Field 3 Value is "Freeform" enter data here | AG4: List of Values Code HIDE Do Not Update | AH4: Auto populated | AI4: NOTE* When Selecting an item from the drop-down List, scroll-up to the top to see the List | AJ4: If Field 4 Value is "Freeform" enter data here | AK4: List of Values Code HIDE Do Not Update | AL4: Auto populated | AM4: NOTE* When Selecting an item from the drop-down List, scroll-up to the top to see the List | AN4: If Field 5 Value is "Freeform" enter data here | AO4: List of Values Code HIDE Do Not Update | AP4: Auto populated | AQ4: NOTE* When Selecting an item from the drop-down List, scroll-up to the top to see the List | AR4: If Field 6 Value is "Freeform" enter data here | AS4: List of Values Code HIDE Do Not Update | AT4: Auto populated | AU4: NOTE* When Selecting an item from the drop-down List, scroll-up to the top to see the List | AV4: If Field 7 Value is "Freeform" enter data here | AW4: List of Values Code HIDE Do Not Update | AX4: Auto populated | AY4: NOTE* When Selecting an item from the drop-down List, scroll-up to the top to see the List | AZ4: If Field 8 Value is "Freeform" enter data here | BA4: List of Values Code HIDE Do Not Update | BB4: Auto populated | BC4: NOTE* When Selecting an item from the drop-down List, scroll-up to the top to see the List | BD4: If Field 9 Value is "Freeform" enter data here | BE4: List of Values Code HIDE Do Not Update | BF4: Auto populated | BG4: NOTE* When Selecting an item from the drop-down List, scroll-up to the top to see the List | BH4: If Field 10 Value is "Freeform" enter data here | BJ4: Facility Code HIDE Do Not Update | BL4: Facility Component Code HIDE Do Not Update | BM4: Component Type Code HIDE Do Not Update | BN4: Component Category Code HIDE Do Not Update | BO4: Sub-Category HIDE Do Not Update | BP4: = Level 5 +Level 6 + Level 7 +Level 8' HIDE Do Not Update | BQ4: System Code HIDE Do Not Update | BR4: Position ID HIDE Do Not Update | BS4: Facility NOTE* When Selecting an item from the drop-down List, scroll-up to the top to see the List | BT4: Facility Component (i.e.. Building, Roads and Grounds) | BU4: Sub-Component Type | BV4: Component Category | BW4: Position / Asset | BX4: Asset | BY4: 4 Character Limit (alias) Unique Identifier (No Duplicate) | CA4: Do Not Update HIDE | CB4: Do Not Update HIDE | CD4: Eg. Floor Level: F1, F2... Basement Level: B1, B2,.. | CE4: Free form or Select from drop-down | CF4: Eg.. Door No. 123 | CG4: READ ONLY- DO NOT EDIT HIDE | CH4: Enter the X Coordinate | CI4: Enter the Y Coordinate | CJ4: Location X (Longitude) OBJ_XLOCATION Do Not Update | CK4: Location Y (Latitude) OBJ_YLOCATION Do Not Update | CL4: Will be auto populated once asset class Do Not Update | CN4: Unique identifier, as assigned by Project Team in MAL Instructions. Used to create the Legacy Identifier code. | CO4: Unique identifier, as assigned by Project Team to link: 1.parent/child relationships and 2. to associated documents in Asset Document Control List Eg. CADD No., File Geo Database Reference | CP4: DO NOT UPDATE | CQ4: Barcode that the asset is tagged with (selected from the predefined asset id range provided) | CR4: DO NOT UPDATE | CS4: Asset Class Description + Facility Description + Room No./ Area Name Description HIDE DO NOT UPDATE | CV4: Enter the Manufacturer's Model | CW4: List Manufacturer's Serial Number | CY4: Is the project delivering maintenance plans separate from OEM instructions? | CZ4: Are Manuals provided? | DA4: Is the project providing surplus parts to Metrolinx? | DC4: Eg. Hour meter, odometer, door cycle,... or 'Not Applicable' | DD4: Meter Unit Of Measure (Eg. KM, Hours) Meter units | DF4: $ CAD | DG4: YYYY | DH4: Indicate condition on a scale of 1-5: 1 = Worst 5 = Best | DI4: Entry Format example: Aug 01, 2023 | DJ4: Eg. No. of Years (2 yrs.) No. of Cycles (3 Cycles) | DM4: Indicates if it is a critical asset (Yes/No) | DN4: Indicates if safety precautions above and beyond normal work is required. (Yes / No) | DO4: Indicates if the asset is governed by a regulatory body (Yes/No) | DQ4: Prevent Non PM WO Completion Default to No
A5: Field | C5: Action Status | D5: Maintenance Responsibility | E5: Replaced/Decommissioned Asset ID | F5: Notes | H5: Asset Status | I5: Operational Status | J5: Commission / In Service Date | K5: Withdrawal / Decommission Date | L5: Parts Associated if Yes provide information in Tab "9.2 Surplus Parts" | M5: Warranty Warranty information MUST be provided in Tab "10.1 MAL-Warranty" for the drop-downs to auto populate | P5: Asset Class (generally associated with hierarchy) | Q5: Class Code | R5: Category | S5: Category Code | U5: Field 1 Code | V5: Custom Field 1 | W5: Custom Field 1 Value | X5: Free Form Entry | Y5: Field 2 Code | Z5: Custom Field 2 | AA5: Custom Field 2 Value | AB5: Free Form Entry | AC5: Field 3 Code | AD5: Custom Field 3 | AE5: Custom Field 3 Value | AF5: Free Form Entry | AG5: Field 4 Code | AH5: Custom Field 4 | AI5: Custom Field 4 Value | AJ5: Free Form Entry | AK5: Field 5 Code | AL5: Custom Field 5 | AM5: Custom Field 5 Value | AN5: Free Form Entry | AO5: Field 6 Code | AP5: Custom Field 6 | AQ5: Custom Field 6 Value | AR5: Free Form Entry | AS5: Field 7 Code | AT5: Custom Field 7 | AU5: Custom Field 7 Value | AV5: Free Form Entry | AW5: Field 8 Code | AX5: Custom Field 8 | AY5: Custom Field 8 Value | AZ5: Free Form Entry | BA5: Field 9 Code | BB5: Custom Field 9 | BC5: Custom Field 9 Value | BD5: Free Form Entry | BE5: Field 10 Code | BF5: Custom Field 10 | BG5: Custom Field 10 Value | BH5: Free Form Entry | BJ5: Level 3 | BK5: Level 4 | BL5: Level_5 Code | BM5: Level_6 Code | BN5: Level_7 Code | BO5: Leve_8 Code | BP5: System Code | BQ5: System Code INCLUDING STATION | BR5: Position ID | BS5: Level_3 | BT5: Level_4 | BU5: Level_5 | BV5: Level_6 | BW5: Level_7 | BX5: Level_8 | BY5: Position/Asset Sequence Tag | CA5: Room No / Area Name | CB5: Location CODE | CD5: Floor / Basement Level | CE5: Room No./Area Name | CF5: Asset Specific Information | CG5: → Asset Location Description | CH5: X Coordinates (Longitude) | CI5: Y Coordinates (Latitude) | CJ5: GIS Details - HIDE | CL5: GIS Layer- HIDE | CN5: Project No. HIDDEN | CO5: CADD Reference | CP5: Legacy CODE - HIDDEN | CQ5: INFOR EAM Unique Asset ID/Barcode ID | CR5: Asset Description | CS5: Position Description HIDE | CT5: Manufacturer | CU5: Manufacturer Code HIDE | CV5: Model | CW5: Serial Number | CY5: Maintenance Plan | CZ5: OEM Maintenance Manuals | DA5: Surplus/Spare Parts | DC5: Type | DD5: Unit | DF5: Replacement Asset Value | DG5: Currency Year | DH5: Condition | DI5: Condition Inspection Date | DJ5: Expected Service Life | DL5: Out of Service | DM5: Criticality | DN5: Safety | DO5: Regulatory | DP5: GL Code | DQ5: Prevent Non PM WO Completion
A6: Mandatory / Optional | C6: Mandatory | F6: Optional | H6: Mandatory | I6: Mandatory | J6: Mandatory | K6: Optional | M6: Mandatory | P6: Mandatory | Q6: Mandatory | R6: Optional | S6: Leave Blank | U6: Do Not Update | V6: Do Not Update | Y6: Do Not Update | Z6: Do Not Update | AC6: Do Not Update | AD6: Do Not Update | AG6: Do Not Update | AH6: Do Not Update | AK6: Do Not Update | AL6: Do Not Update | AO6: Do Not Update | AP6: Do Not Update | AS6: Do Not Update | AT6: Do Not Update | AW6: Do Not Update | AX6: Do Not Update | BA6: Do Not Update | BB6: Do Not Update | BE6: Do Not Update | BF6: Do Not Update | BS6: Mandatory | BT6: Mandatory | BU6: Mandatory | BV6: Mandatory | BW6: Mandatory | BX6: Mandatory | BY6: Mandatory | CD6: Optional | CE6: Optional | CF6: Optional | CG6: Mandatory | CH6: Mandatory | CI6: Mandatory | CN6: Mandatory/Optional | CO6: Mandatory | CQ6: Optional | CR6: Mandatory | CT6: Mandatory | CV6: Mandatory | CW6: Optional | CY6: Mandatory | CZ6: Mandatory | DA6: Mandatory | DC6: Mandatory
A7: Field Type | C7: nvarchar | F7: n/a | I7: nvarchar | J7: Date | K7: Date | Q7: nvarchar | S7: nvarchar | U7: Do Not Update | V7: Do Not Update | Y7: Do Not Update | Z7: Do Not Update | AC7: Do Not Update | AD7: Do Not Update | AG7: Do Not Update | AH7: Do Not Update | AK7: Do Not Update | AL7: Do Not Update | AO7: Do Not Update | AP7: Do Not Update | AS7: Do Not Update | AT7: Do Not Update | AW7: Do Not Update | AX7: Do Not Update | BA7: Do Not Update | BB7: Do Not Update | BE7: Do Not Update | BF7: Do Not Update | BJ7: n/a | CQ7: nvarchar | CT7: nvarchar | CV7: nvarchar | CW7: nvarchar
A8: Field Length | C8: 20 | F8: n/a | Q8: 8 | S8: 30 | U8: Do Not Update | V8: Do Not Update | Y8: Do Not Update | Z8: Do Not Update | AC8: Do Not Update | AD8: Do Not Update | AG8: Do Not Update | AH8: Do Not Update | AK8: Do Not Update | AL8: Do Not Update | AO8: Do Not Update | AP8: Do Not Update | AS8: Do Not Update | AT8: Do Not Update | AW8: Do Not Update | AX8: Do Not Update | BA8: Do Not Update | BB8: Do Not Update | BE8: Do Not Update | BF8: Do Not Update | BJ8: n/a | BR8: 30 | CQ8: 30 | CR8: 80 character limit | CT8: 45 | CV8: 30 | CW8: 30
A9: Formula / Reference | C9: ACTIONCODE / MAL-OTHERLOOKUPS | E9: = if ( Action Code = "REPLACE - NEW", hIghlight cell) | F9: n/a | L9: yes / No dropdown | P9: CLASSLOOKUP | Q9: =INDEX(AssetClass[Class Code],MATCH('MAL-Stations Entry'!AA Cell on the left,AssetClass[Asset Class],0))' | U9: =VLOOKUP($V12,CLASSLOOKUP!$A$2:$P$107,3,FALSE) | V9: =VLOOKUP($V12,CLASSLOOKUP!$A$2:$P$107,4,FALSE) | Y9: =VLOOKUP($V12,CLASSLOOKUP!$A$2:$P$107,5,FALSE) | Z9: =VLOOKUP($V12,CLASSLOOKUP!$A$2:$P$107,6,FALSE) | AC9: =VLOOKUP($V12,CLASSLOOKUP!$A$2:$P$107,7,FALSE) | AD9: =VLOOKUP($V11,CLASSLOOKUP!$A$2:$P$107,8,FALSE) | AG9: =VLOOKUP($V11,CLASSLOOKUP!$A$2:$P$107,9,FALSE) | AH9: =VLOOKUP($V11,CLASSLOOKUP!$A$2:$P$107,10,FALSE) | AK9: =VLOOKUP($V11,CLASSLOOKUP!$A$2:$P$107,11,FALSE) | AL9: =VLOOKUP($V11,CLASSLOOKUP!$A$2:$P$107,12,FALSE) | AO9: =VLOOKUP($V11,CLASSLOOKUP!$A$2:$P$107,13,FALSE) | AP9: =VLOOKUP($V11,CLASSLOOKUP!$A$2:$P$107,14,FALSE) | AS9: =VLOOKUP($V11,CLASSLOOKUP!$A$2:$P$107,15,FALSE) | AT9: =VLOOKUP($V11,CLASSLOOKUP!$A$2:$P$107,16,FALSE) | AW9: =VLOOKUP($V11,CLASSLOOKUP!$A$2:$P$107,13,FALSE) | AX9: =VLOOKUP($V11,CLASSLOOKUP!$A$2:$P$107,14,FALSE) | BA9: =VLOOKUP($V11,CLASSLOOKUP!$A$2:$P$107,15,FALSE) | BB9: =VLOOKUP($V11,CLASSLOOKUP!$A$2:$P$107,16,FALSE) | BE9: =VLOOKUP($V11,CLASSLOOKUP!$A$2:$P$107,13,FALSE) | BF9: =VLOOKUP($V11,CLASSLOOKUP!$A$2:$P$107,14,FALSE) | BJ9: n/a | BP9: unifies codes from Level 5, 6,7 and 8, into one string | CP9: = "Project No.' + 'Project Asset ID' =$CC10&"-"&$CD10 | CT9: Stores the manufacturer name of the asset | CV9: Stores the model name of the asset
